BEGIN:VCALENDAR
VERSION:2.0
PRODID:-//Greater Lansing Area Sports Hall of Fame - ECPv6.15.20//NONSGML v1.0//EN
CALSCALE:GREGORIAN
METHOD:PUBLISH
X-ORIGINAL-URL:https://lansingsportshalloffame.org
X-WR-CALDESC:Events for Greater Lansing Area Sports Hall of Fame
REFRESH-INTERVAL;VALUE=DURATION:PT1H
X-Robots-Tag:noindex
X-PUBLISHED-TTL:PT1H
BEGIN:VTIMEZONE
TZID:America/Detroit
BEGIN:DAYLIGHT
TZOFFSETFROM:-0500
TZOFFSETTO:-0400
TZNAME:EDT
DTSTART:20250309T070000
END:DAYLIGHT
BEGIN:STANDARD
TZOFFSETFROM:-0400
TZOFFSETTO:-0500
TZNAME:EST
DTSTART:20251102T060000
END:STANDARD
BEGIN:DAYLIGHT
TZOFFSETFROM:-0500
TZOFFSETTO:-0400
TZNAME:EDT
DTSTART:20260308T070000
END:DAYLIGHT
BEGIN:STANDARD
TZOFFSETFROM:-0400
TZOFFSETTO:-0500
TZNAME:EST
DTSTART:20261101T060000
END:STANDARD
BEGIN:DAYLIGHT
TZOFFSETFROM:-0500
TZOFFSETTO:-0400
TZNAME:EDT
DTSTART:20270314T070000
END:DAYLIGHT
BEGIN:STANDARD
TZOFFSETFROM:-0400
TZOFFSETTO:-0500
TZNAME:EST
DTSTART:20271107T060000
END:STANDARD
END:VTIMEZONE
BEGIN:VEVENT
DTSTART;TZID=America/Detroit:20260518T183000
DTEND;TZID=America/Detroit:20260518T183000
DTSTAMP:20260425T095201
CREATED:20260417T132539Z
LAST-MODIFIED:20260417T133536Z
UID:5185-1779129000-1779129000@lansingsportshalloffame.org
SUMMARY:Softball Classic
DESCRIPTION:The Greater Lansing Area Sports Hall of Fame Softball Classic will be held May 18\, 19 & 20.  Games are at 6 and 8 PM.  The Championship game will be held on May 22nd at 7 PM.
URL:https://lansingsportshalloffame.org/event/softball-classic/
END:VEVENT
BEGIN:VEVENT
DTSTART;TZID=America/Detroit:20260820T040000
DTEND;TZID=America/Detroit:20260820T040000
DTSTAMP:20260425T095201
CREATED:20260224T211417Z
LAST-MODIFIED:20260224T211700Z
UID:5167-1787198400-1787198400@lansingsportshalloffame.org
SUMMARY:Greater Lansing Area Sports Hall of Fame 50th Anniversary Celebration
DESCRIPTION:
URL:https://lansingsportshalloffame.org/event/greater-lansing-area-sports-hall-of-fame-50th-anniversary-celebration/
END:VEVENT
END:VCALENDAR