BEGIN:VCALENDAR
VERSION:2.0
PRODID:-//Greater Lansing Area Sports Hall of Fame - ECPv6.15.20//NONSGML v1.0//EN
CALSCALE:GREGORIAN
METHOD:PUBLISH
X-WR-CALNAME:Greater Lansing Area Sports Hall of Fame
X-ORIGINAL-URL:https://lansingsportshalloffame.org
X-WR-CALDESC:Events for Greater Lansing Area Sports Hall of Fame
REFRESH-INTERVAL;VALUE=DURATION:PT1H
X-Robots-Tag:noindex
X-PUBLISHED-TTL:PT1H
BEGIN:VTIMEZONE
TZID:America/Detroit
BEGIN:DAYLIGHT
TZOFFSETFROM:-0500
TZOFFSETTO:-0400
TZNAME:EDT
DTSTART:20180311T070000
END:DAYLIGHT
BEGIN:STANDARD
TZOFFSETFROM:-0400
TZOFFSETTO:-0500
TZNAME:EST
DTSTART:20181104T060000
END:STANDARD
BEGIN:DAYLIGHT
TZOFFSETFROM:-0500
TZOFFSETTO:-0400
TZNAME:EDT
DTSTART:20190310T070000
END:DAYLIGHT
BEGIN:STANDARD
TZOFFSETFROM:-0400
TZOFFSETTO:-0500
TZNAME:EST
DTSTART:20191103T060000
END:STANDARD
BEGIN:DAYLIGHT
TZOFFSETFROM:-0500
TZOFFSETTO:-0400
TZNAME:EDT
DTSTART:20200308T070000
END:DAYLIGHT
BEGIN:STANDARD
TZOFFSETFROM:-0400
TZOFFSETTO:-0500
TZNAME:EST
DTSTART:20201101T060000
END:STANDARD
END:VTIMEZONE
BEGIN:VEVENT
DTSTART;VALUE=DATE:20191031
DTEND;VALUE=DATE:20191102
DTSTAMP:20260425T223121
CREATED:20190823T004321Z
LAST-MODIFIED:20190904T003617Z
UID:3092-1572552000-1572638399@lansingsportshalloffame.org
SUMMARY:Nomination Deadline for Class of 2020
DESCRIPTION:Nomination forms may be downloaded from this website by clicking on the “Nominate” tab and scrolling down the page until you come to the Nomination form link.  Please follow the directions and mail your nomination and supporting documentation to:  Bob Every\, Executive Director\, 724 N. Francis Ave.\, Lansing\, MI  48912. \nIf you attended this year’s ceremony\, there is a form in your program. \n 
URL:https://lansingsportshalloffame.org/event/nomination-deadline-for-class-of-2020/
END:VEVENT
END:VCALENDAR