BEGIN:VCALENDAR
VERSION:2.0
PRODID:-//Greater Lansing Area Sports Hall of Fame - ECPv6.15.20//NONSGML v1.0//EN
CALSCALE:GREGORIAN
METHOD:PUBLISH
X-ORIGINAL-URL:https://lansingsportshalloffame.org
X-WR-CALDESC:Events for Greater Lansing Area Sports Hall of Fame
REFRESH-INTERVAL;VALUE=DURATION:PT1H
X-Robots-Tag:noindex
X-PUBLISHED-TTL:PT1H
BEGIN:VTIMEZONE
TZID:America/Detroit
BEGIN:DAYLIGHT
TZOFFSETFROM:-0500
TZOFFSETTO:-0400
TZNAME:EDT
DTSTART:20220313T070000
END:DAYLIGHT
BEGIN:STANDARD
TZOFFSETFROM:-0400
TZOFFSETTO:-0500
TZNAME:EST
DTSTART:20221106T060000
END:STANDARD
BEGIN:DAYLIGHT
TZOFFSETFROM:-0500
TZOFFSETTO:-0400
TZNAME:EDT
DTSTART:20230312T070000
END:DAYLIGHT
BEGIN:STANDARD
TZOFFSETFROM:-0400
TZOFFSETTO:-0500
TZNAME:EST
DTSTART:20231105T060000
END:STANDARD
BEGIN:DAYLIGHT
TZOFFSETFROM:-0500
TZOFFSETTO:-0400
TZNAME:EDT
DTSTART:20240310T070000
END:DAYLIGHT
BEGIN:STANDARD
TZOFFSETFROM:-0400
TZOFFSETTO:-0500
TZNAME:EST
DTSTART:20241103T060000
END:STANDARD
END:VTIMEZONE
BEGIN:VEVENT
DTSTART;TZID=America/Detroit:20230709T050000
DTEND;TZID=America/Detroit:20230709T070000
DTSTAMP:20260422T113623
CREATED:20230709T130056Z
LAST-MODIFIED:20230606T220256Z
UID:1376-1688878800-1688886000@lansingsportshalloffame.org
SUMMARY:Run For Fame 5K Run/Walk Race
DESCRIPTION:
URL:https://lansingsportshalloffame.org/event/run-for-fame-5k10k-runwalk-race/
LOCATION:Lansing Center\, 333 East Michigan Ave.\, Lansing\, MI\, 48933\, United States
ORGANIZER;CN="Greater Lansing Area Sports Hall of Fame":MAILTO:everyb21@gmail.com
END:VEVENT
END:VCALENDAR